Workbook

Sheet Introduction
A1: Wraparound Spelling
B6: Wraparound spelling is a set of resources generated to support Highland schools in delivering a universal method of boosting attainment in literacy.
B7: This tool is designed to allow for effective data collection with the aim of evaluating ongoing progress.
B9: The aim for this is to not only raise attainment, but also evaluate the appropriateness of the Wraparound tools.
B10: At the end of the data collection period, we will ask for the 'Raw Data' to be sent back.
B11: This will include the minimum amount of detail possible, which will avoid the risk of individual identification
B13: The sum of all data sets will be collated and analysed thoroughly. This will hopefully give an idea of how effective the Wraparound Spelling resources
B14: The information you send will inform next stepss and the progress of learners
B16: To navigate through the workbook, either work through the tabs at the bottom or follow the links provided!
B18: Guidance
B19: Register
B20: Baseline Data
B21: Screening - Baseline to Middle
... B35: Grant.Murray@highland.gov.uk

Sheet Guidance
A1: Guidance
D4: The Process - Below is a visual representation of the timeline.
A6: Return to Navigation Page
D35: The aim of this tracker is to make things as simple as possible for you. All you need to keep an eye out for is the orange filled cells, for example:
D36: Cells either require typing in basic informaiton, whether that be a text or a number. Sometimes, there may also be scope to records your thoughts and reflections.
D37: Please make every effort to complete all the information. You WILL NOT need to do any calculations. This is all taken care for you
E40: Name | F40: Age | G40: DOB | H40: SIMD | I40: Primary | M40: Question
K41: OR | M41: Open ended answer

Sheet Register
C1: Register
A3: Return to Navigation Page | E3: School Name: | F3: Enter Here | H3: Primary: | I3: 2/3/4/5/6
C5: Name | D5: Gender | E5: Initials | F5: Date of Birth | G5: SIMD Decile(1-10) | H5: ASN | I5: EAL | J5: Previous Experience of Wraparound Materials | K5: CfE Level at Enrollment
B6: 1 | C6: Laura | D6: F | E6: LM | F6: 33825 | G6: 5 | H6: 0 | I6: 0 | J6: N | K6: 2
B7: 2
B8: 3 | M8: Code Book:
B9: 4 | M9: ASN
B10: 5 | M10: 0 | N10: No ASN
B11: 6 | M11: 1 | N11: Dyslexia
B12: 7 | M12: 2 | N12: ADHD
B13: =B12+1 -> 8 | M13: 3 | N13: ASD
B14: =B13+1 -> 9 | M14: 4 | N14: Hearing Impaired
B15: =B14+1 -> 10 | M15: 5 | N15: Other
B16: =B15+1 -> 11
B17: =B16+1 -> 12 | M17: EAL
B18: =B17+1 -> 13 | M18: 0 | N18: No-EAL
B19: =B18+1 -> 14 | M19: 1 | N19: EAL
B20: =B19+1 -> 15 | M20: Previous Wrap_Experience
B21: =B20+1 -> 16 | M21: Y | N21: Yes, last year
B22: =B21+1 -> 17 | M22: N | N22: No, completely new
B23: =B22+1 -> 18 | M23: CfE Level
B24: =B23+1 -> 19 | M24: 0 | N24: Early
B25: =B24+1 -> 20 | M25: 1 | N25: First
B26: =B25+1 -> 21 | M26: 2 | N26: Second
B27: =B26+1 -> 22
B28: =B27+1 -> 23
B29: =B28+1 -> 24
B30: =B29+1 -> 25
B31: =B30+1 -> 26
B32: =B31+1 -> 27
B33: =B32+1 -> 28
B34: =B33+1 -> 29
B35: =B34+1 -> 30

Sheet Baseline
A3: Return to Navigation Page | E3: Scroll along for more!
K4: Click here for scores < 10
B5: Blackwell Spelling Assessment
C7: Name | D7: Gender | E7: Initials | F7: Date of Birth | G7: SIMD Decile(1-10) | H7: ASN | I7: Date: Blackwell Assessment 1 | J7: Age(Assessment 1) | K7: Raw Score | L7: Age Equivalence(Assessment 1) | M7: <10
B8: 1 | C8: =Register!C6 -> Laura | D8: =Register!D6 -> F | E8: =Register!E6 -> LM | F8: =Register!F6 -> 33825 | G8: =Register!G6 -> 5 | H8: =Register!H6 -> 0 | I8: 43360 | J8: =Sheet12!P5 -> 26 years / 0 | K8: 23 | L8: =Sheet12!F38 -> 8.3 | M8: =Sheet12!K38 -> 6.2
B9: 2 | C9: =Register!C7 -> 0 | D9: =Register!D7 -> 0 | E9: =Register!E7 -> 0 | F9: =Register!F7 -> 0 | G9: =Register!G7 -> 0 | H9: =Register!H7 -> 0 | J9: =Sheet12!P6 -> 0 years / 0 | L9: =Sheet12!F39 -> #VALUE! | M9: =Sheet12!K39 -> #VALUE!
B10: 3 | C10: =Register!C8 -> 0 | D10: =Register!D8 -> 0 | E10: =Register!E8 -> 0 | F10: =Register!F8 -> 0 | G10: =Register!G8 -> 0 | H10: =Register!H8 -> 0 | J10: =Sheet12!P7 -> 0 years / 0 | L10: =Sheet12!F40 -> #VALUE! | M10: =Sheet12!K40 -> #VALUE!
B11: 4 | C11: =Register!C9 -> 0 | D11: =Register!D9 -> 0 | E11: =Register!E9 -> 0 | F11: =Register!F9 -> 0 | G11: =Register!G9 -> 0 | H11: =Register!H9 -> 0 | J11: =Sheet12!P8 -> 0 years / 0 | L11: =Sheet12!F41 -> #VALUE! | M11: =Sheet12!K41 -> #VALUE!
B12: 5 | C12: =Register!C10 -> 0 | D12: =Register!D10 -> 0 | E12: =Register!E10 -> 0 | F12: =Register!F10 -> 0 | G12: =Register!G10 -> 0 | H12: =Register!H10 -> 0 | J12: =Sheet12!P9 -> 0 years / 0 | L12: =Sheet12!F42 -> #VALUE! | M12: =Sheet12!K42 -> #VALUE!
B13: 6 | C13: =Register!C11 -> 0 | D13: =Register!D11 -> 0 | E13: =Register!E11 -> 0 | F13: =Register!F11 -> 0 | G13: =Register!G11 -> 0 | H13: =Register!H11 -> 0 | J13: =Sheet12!P10 -> 0 years / 0 | L13: =Sheet12!F43 -> #VALUE! | M13: =Sheet12!K43 -> #VALUE!
B14: 7 | C14: =Register!C12 -> 0 | D14: =Register!D12 -> 0 | E14: =Register!E12 -> 0 | F14: =Register!F12 -> 0 | G14: =Register!G12 -> 0 | H14: =Register!H12 -> 0 | J14: =Sheet12!P11 -> 0 years / 0 | L14: =Sheet12!F44 -> #VALUE! | M14: =Sheet12!K44 -> #VALUE!
B15: =B14+1 -> 8 | C15: =Register!C13 -> 0 | D15: =Register!D13 -> 0 | E15: =Register!E13 -> 0 | F15: =Register!F13 -> 0 | G15: =Register!G13 -> 0 | H15: =Register!H13 -> 0 | J15: =Sheet12!P12 -> 0 years / 0 | L15: =Sheet12!F45 -> #VALUE! | M15: =Sheet12!K45 -> #VALUE!
B16: =B15+1 -> 9 | C16: =Register!C14 -> 0 | D16: =Register!D14 -> 0 | E16: =Register!E14 -> 0 | F16: =Register!F14 -> 0 | G16: =Register!G14 -> 0 | H16: =Register!H14 -> 0 | J16: =Sheet12!P13 -> 0 years / 0 | L16: =Sheet12!F46 -> #VALUE! | M16: =Sheet12!K46 -> #VALUE!
B17: =B16+1 -> 10 | C17: =Register!C15 -> 0 | D17: =Register!D15 -> 0 | E17: =Register!E15 -> 0 | F17: =Register!F15 -> 0 | G17: =Register!G15 -> 0 | H17: =Register!H15 -> 0 | J17: =Sheet12!P14 -> 0 years / 0 | L17: =Sheet12!F47 -> #VALUE! | M17: =Sheet12!K47 -> #VALUE!
B18: =B17+1 -> 11 | C18: =Register!C16 -> 0 | D18: =Register!D16 -> 0 | E18: =Register!E16 -> 0 | F18: =Register!F16 -> 0 | G18: =Register!G16 -> 0 | H18: =Register!H16 -> 0 | J18: =Sheet12!P15 -> 0 years / 0 | L18: =Sheet12!F48 -> #VALUE! | M18: =Sheet12!K48 -> #VALUE! | O18: 1. What is the information from the Blackwell/Spelling Monitoring Sheets telling you?
B19: =B18+1 -> 12 | C19: =Register!C17 -> 0 | D19: =Register!D17 -> 0 | E19: =Register!E17 -> 0 | F19: =Register!F17 -> 0 | G19: =Register!G17 -> 0 | H19: =Register!H17 -> 0 | J19: =Sheet12!P16 -> 0 years / 0 | L19: =Sheet12!F49 -> #VALUE! | M19: =Sheet12!K49 -> #VALUE!
B20: =B19+1 -> 13 | C20: =Register!C18 -> 0 | D20: =Register!D18 -> 0 | E20: =Register!E18 -> 0 | F20: =Register!F18 -> 0 | G20: =Register!G18 -> 0 | H20: =Register!H18 -> 0 | J20: =Sheet12!P17 -> 0 years / 0 | L20: =Sheet12!F50 -> #VALUE! | M20: =Sheet12!K50 -> #VALUE!
B21: =B20+1 -> 14 | C21: =Register!C19 -> 0 | D21: =Register!D19 -> 0 | E21: =Register!E19 -> 0 | F21: =Register!F19 -> 0 | G21: =Register!G19 -> 0 | H21: =Register!H19 -> 0 | J21: =Sheet12!P18 -> 0 years / 0 | L21: =Sheet12!F51 -> #VALUE! | M21: =Sheet12!K51 -> #VALUE!
B22: =B21+1 -> 15 | C22: =Register!C20 -> 0 | D22: =Register!D20 -> 0 | E22: =Register!E20 -> 0 | F22: =Register!F20 -> 0 | G22: =Register!G20 -> 0 | H22: =Register!H20 -> 0 | J22: =Sheet12!P19 -> 0 years / 0 | L22: =Sheet12!F52 -> #VALUE! | M22: =Sheet12!K52 -> #VALUE!
B23: =B22+1 -> 16 | C23: =Register!C21 -> 0 | D23: =Register!D21 -> 0 | E23: =Register!E21 -> 0 | F23: =Register!F21 -> 0 | G23: =Register!G21 -> 0 | H23: =Register!H21 -> 0 | J23: =Sheet12!P20 -> 0 years / 0 | L23: =Sheet12!F53 -> #VALUE! | M23: =Sheet12!K53 -> #VALUE!
B24: =B23+1 -> 17 | C24: =Register!C22 -> 0 | D24: =Register!D22 -> 0 | E24: =Register!E22 -> 0 | F24: =Register!F22 -> 0 | G24: =Register!G22 -> 0 | H24: =Register!H22 -> 0 | J24: =Sheet12!P21 -> 0 years / 0 | L24: =Sheet12!F54 -> #VALUE! | M24: =Sheet12!K54 -> #VALUE!
B25: =B24+1 -> 18 | C25: =Register!C23 -> 0 | D25: =Register!D23 -> 0 | E25: =Register!E23 -> 0 | F25: =Register!F23 -> 0 | G25: =Register!G23 -> 0 | H25: =Register!H23 -> 0 | J25: =Sheet12!P22 -> 0 years / 0 | L25: =Sheet12!F55 -> #VALUE! | M25: =Sheet12!K55 -> #VALUE!
B26: =B25+1 -> 19 | C26: =Register!C24 -> 0 | D26: =Register!D24 -> 0 | E26: =Register!E24 -> 0 | F26: =Register!F24 -> 0 | G26: =Register!G24 -> 0 | H26: =Register!H24 -> 0 | J26: =Sheet12!P23 -> 0 years / 0 | L26: =Sheet12!F56 -> #VALUE! | M26: =Sheet12!K56 -> #VALUE!
B27: =B26+1 -> 20 | C27: =Register!C25 -> 0 | D27: =Register!D25 -> 0 | E27: =Register!E25 -> 0 | F27: =Register!F25 -> 0 | G27: =Register!G25 -> 0 | H27: =Register!H25 -> 0 | J27: =Sheet12!P24 -> 0 years / 0 | L27: =Sheet12!F57 -> #VALUE! | M27: =Sheet12!K57 -> #VALUE!
B28: =B27+1 -> 21 | C28: =Register!C26 -> 0 | D28: =Register!D26 -> 0 | E28: =Register!E26 -> 0 | F28: =Register!F26 -> 0 | G28: =Register!G26 -> 0 | H28: =Register!H26 -> 0 | J28: =Sheet12!P25 -> 0 years / 0 | L28: =Sheet12!F58 -> #VALUE! | M28: =Sheet12!K58 -> #VALUE!
B29: =B28+1 -> 22 | C29: =Register!C27 -> 0 | D29: =Register!D27 -> 0 | E29: =Register!E27 -> 0 | F29: =Register!F27 -> 0 | G29: =Register!G27 -> 0 | H29: =Register!H27 -> 0 | J29: =Sheet12!P26 -> 0 years / 0 | L29: =Sheet12!F59 -> #VALUE! | M29: =Sheet12!K59 -> #VALUE!
B30: =B29+1 -> 23 | C30: =Register!C28 -> 0 | D30: =Register!D28 -> 0 | E30: =Register!E28 -> 0 | F30: =Register!F28 -> 0 | G30: =Register!G28 -> 0 | H30: =Register!H28 -> 0 | J30: =Sheet12!P27 -> 0 years / 0 | L30: =Sheet12!F60 -> #VALUE! | M30: =Sheet12!K60 -> #VALUE!
B31: =B30+1 -> 24 | C31: =Register!C29 -> 0 | D31: =Register!D29 -> 0 | E31: =Register!E29 -> 0 | F31: =Register!F29 -> 0 | G31: =Register!G29 -> 0 | H31: =Register!H29 -> 0 | J31: =Sheet12!P28 -> 0 years / 0 | L31: =Sheet12!F61 -> #VALUE! | M31: =Sheet12!K61 -> #VALUE! | O31: 2. Using the Wraparound materials,how do you plan on doing to tackle the issues you think are presented?
B32: =B31+1 -> 25 | C32: =Register!C30 -> 0 | D32: =Register!D30 -> 0 | E32: =Register!E30 -> 0 | F32: =Register!F30 -> 0 | G32: =Register!G30 -> 0 | H32: =Register!H30 -> 0 | J32: =Sheet12!P29 -> 0 years / 0 | L32: =Sheet12!F62 -> #VALUE! | M32: =Sheet12!K62 -> #VALUE!
B33: =B32+1 -> 26 | C33: =Register!C31 -> 0 | D33: =Register!D31 -> 0 | E33: =Register!E31 -> 0 | F33: =Register!F31 -> 0 | G33: =Register!G31 -> 0 | H33: =Register!H31 -> 0 | J33: =Sheet12!P30 -> 0 years / 0 | L33: =Sheet12!F63 -> #VALUE! | M33: =Sheet12!K63 -> #VALUE!
B34: =B33+1 -> 27 | C34: =Register!C32 -> 0 | D34: =Register!D32 -> 0 | E34: =Register!E32 -> 0 | F34: =Register!F32 -> 0 | G34: =Register!G32 -> 0 | H34: =Register!H32 -> 0 | J34: =Sheet12!P31 -> 0 years / 0 | L34: =Sheet12!F64 -> #VALUE! | M34: =Sheet12!K64 -> #VALUE!
B35: =B34+1 -> 28 | C35: =Register!C33 -> 0 | D35: =Register!D33 -> 0 | E35: =Register!E33 -> 0 | F35: =Register!F33 -> 0 | G35: =Register!G33 -> 0 | H35: =Register!H33 -> 0 | J35: =Sheet12!P32 -> 0 years / 0 | L35: =Sheet12!F65 -> #VALUE! | M35: =Sheet12!K65 -> #VALUE!
B36: =B35+1 -> 29 | C36: =Register!C34 -> 0 | D36: =Register!D34 -> 0 | E36: =Register!E34 -> 0 | F36: =Register!F34 -> 0 | G36: =Register!G34 -> 0 | H36: =Register!H34 -> 0 | J36: =Sheet12!P33 -> 0 years / 0 | L36: =Sheet12!F66 -> #VALUE! | M36: =Sheet12!K66 -> #VALUE!
B37: =B36+1 -> 30 | C37: =Register!C35 -> 0 | D37: =Register!D35 -> 0 | E37: =Register!E35 -> 0 | F37: =Register!F35 -> 0 | G37: =Register!G35 -> 0 | H37: =Register!H35 -> 0 | J37: =Sheet12!P34 -> 0 years / 0 | L37: =Sheet12!F67 -> #VALUE! | M37: =Sheet12!K67 -> #VALUE!
B39: Wraparound Screening Tool
C41: Name | D41: Gender | E41: Initials | F41: Date | G41: Stretching Words | H41: Counting Sounds | I41: Grapheme Identification | J41: Rhyming | K41: Syllabising | L41: Grow Words | M41: Parts of Speech
B42: 1 | C42: =Register!C6 -> Laura | D42: =Register!D6 -> F | E42: =Register!E6 -> LM
B43: 2 | C43: =Register!C7 -> 0 | D43: =Register!D7 -> 0 | E43: =Register!E7 -> 0
B44: 3 | C44: =Register!C8 -> 0 | D44: =Register!D8 -> 0 | E44: =Register!E8 -> 0
B45: 4 | C45: =Register!C9 -> 0 | D45: =Register!D9 -> 0 | E45: =Register!E9 -> 0
...

Sheet Sheet12
B4: DOB | C4: Date: B1 | D4: Date: B2 | E4: Date: B3 | H4: DifB1 | I4: DifB2 | J4: DifB3 | L4: DecB1 | M4: DecB2 | N4: DecB3 | P4: FinalB1 | Q4: FinalB2 | R4: Final B3
A5: 1 | B5: =Register!F6 -> 33825 | C5: =Baseline!I8 -> 43360 | D5: =Middle!E11 -> 0 | E5: =End!E9 -> 0 | H5: =DATEDIF(B5,C5,"m") -> 313 | I5: =DATEDIF(B5,D5,"m") -> #NUM! | J5: =DATEDIF(B5,E5,"m") -> #NUM! | L5: =H5/12 -> 26.083333 | M5: =I5/12 -> #NUM! | N5: =J5/12 -> #NUM! | P5: =INT(L5)&" years / "&INT((L5-INT(L5))*12) -> 26 years / 0 | Q5: =INT(M5)&" years / "&INT((M5-INT(M5))*12) -> #NUM! | R5: =INT(N5)&" years / "&INT((N5-INT(N5))*12) -> #NUM!
A6: =A5+1 -> 2 | B6: =Register!F7 -> 0 | C6: =Baseline!I9 -> 0 | D6: =Middle!E12 -> 0 | E6: =End!E10 -> 0 | H6: =DATEDIF(B6,C6,"m") -> 0 | I6: =DATEDIF(B6,D6,"m") -> 0 | J6: =DATEDIF(B6,E6,"m") -> 0 | L6: =H6/12 -> 0 | M6: =I6/12 -> 0 | N6: =J6/12 -> 0 | P6: =INT(L6)&" years / "&INT((L6-INT(L6))*12) -> 0 years / 0 | Q6: =INT(M6)&" years / "&INT((M6-INT(M6))*12) -> 0 years / 0 | R6: =INT(N6)&" years / "&INT((N6-INT(N6))*12) -> 0 years / 0
A7: =A6+1 -> 3 | B7: =Register!F8 -> 0 | C7: =Baseline!I10 -> 0 | D7: =Middle!E13 -> 0 | E7: =End!E11 -> 0 | H7: =DATEDIF(B7,C7,"m") -> 0 | I7: =DATEDIF(B7,D7,"m") -> 0 | J7: =DATEDIF(B7,E7,"m") -> 0 | L7: =H7/12 -> 0 | M7: =I7/12 -> 0 | N7: =J7/12 -> 0 | P7: =INT(L7)&" years / "&INT((L7-INT(L7))*12) -> 0 years / 0 | Q7: =INT(M7)&" years / "&INT((M7-INT(M7))*12) -> 0 years / 0 | R7: =INT(N7)&" years / "&INT((N7-INT(N7))*12) -> 0 years / 0
A8: =A7+1 -> 4 | B8: =Register!F9 -> 0 | C8: =Baseline!I11 -> 0 | D8: =Middle!E14 -> 0 | E8: =End!E12 -> 0 | H8: =DATEDIF(B8,C8,"m") -> 0 | I8: =DATEDIF(B8,D8,"m") -> 0 | J8: =DATEDIF(B8,E8,"m") -> 0 | L8: =H8/12 -> 0 | M8: =I8/12 -> 0 | N8: =J8/12 -> 0 | P8: =INT(L8)&" years / "&INT((L8-INT(L8))*12) -> 0 years / 0 | Q8: =INT(M8)&" years / "&INT((M8-INT(M8))*12) -> 0 years / 0 | R8: =INT(N8)&" years / "&INT((N8-INT(N8))*12) -> 0 years / 0
A9: =A8+1 -> 5 | B9: =Register!F10 -> 0 | C9: =Baseline!I12 -> 0 | D9: =Middle!E15 -> 0 | E9: =End!E13 -> 0 | H9: =DATEDIF(B9,C9,"m") -> 0 | I9: =DATEDIF(B9,D9,"m") -> 0 | J9: =DATEDIF(B9,E9,"m") -> 0 | L9: =H9/12 -> 0 | M9: =I9/12 -> 0 | N9: =J9/12 -> 0 | P9: =INT(L9)&" years / "&INT((L9-INT(L9))*12) -> 0 years / 0 | Q9: =INT(M9)&" years / "&INT((M9-INT(M9))*12) -> 0 years / 0 | R9: =INT(N9)&" years / "&INT((N9-INT(N9))*12) -> 0 years / 0
A10: =A9+1 -> 6 | B10: =Register!F11 -> 0 | C10: =Baseline!I13 -> 0 | D10: =Middle!E16 -> 0 | E10: =End!E14 -> 0 | H10: =DATEDIF(B10,C10,"m") -> 0 | I10: =DATEDIF(B10,D10,"m") -> 0 | J10: =DATEDIF(B10,E10,"m") -> 0 | L10: =H10/12 -> 0 | M10: =I10/12 -> 0 | N10: =J10/12 -> 0 | P10: =INT(L10)&" years / "&INT((L10-INT(L10))*12) -> 0 years / 0 | Q10: =INT(M10)&" years / "&INT((M10-INT(M10))*12) -> 0 years / 0 | R10: =INT(N10)&" years / "&INT((N10-INT(N10))*12) -> 0 years / 0
A11: =A10+1 -> 7 | B11: =Register!F12 -> 0 | C11: =Baseline!I14 -> 0 | D11: =Middle!E17 -> 0 | E11: =End!E15 -> 0 | H11: =DATEDIF(B11,C11,"m") -> 0 | I11: =DATEDIF(B11,D11,"m") -> 0 | J11: =DATEDIF(B11,E11,"m") -> 0 | L11: =H11/12 -> 0 | M11: =I11/12 -> 0 | N11: =J11/12 -> 0 | P11: =INT(L11)&" years / "&INT((L11-INT(L11))*12) -> 0 years / 0 | Q11: =INT(M11)&" years / "&INT((M11-INT(M11))*12) -> 0 years / 0 | R11: =INT(N11)&" years / "&INT((N11-INT(N11))*12) -> 0 years / 0
A12: =A11+1 -> 8 | B12: =Register!F13 -> 0 | C12: =Baseline!I15 -> 0 | D12: =Middle!E18 -> 0 | E12: =End!E16 -> 0 | H12: =DATEDIF(B12,C12,"m") -> 0 | I12: =DATEDIF(B12,D12,"m") -> 0 | J12: =DATEDIF(B12,E12,"m") -> 0 | L12: =H12/12 -> 0 | M12: =I12/12 -> 0 | N12: =J12/12 -> 0 | P12: =INT(L12)&" years / "&INT((L12-INT(L12))*12) -> 0 years / 0 | Q12: =INT(M12)&" years / "&INT((M12-INT(M12))*12) -> 0 years / 0 | R12: =INT(N12)&" years / "&INT((N12-INT(N12))*12) -> 0 years / 0
A13: =A12+1 -> 9 | B13: =Register!F14 -> 0 | C13: =Baseline!I16 -> 0 | D13: =Middle!E19 -> 0 | E13: =End!E17 -> 0 | H13: =DATEDIF(B13,C13,"m") -> 0 | I13: =DATEDIF(B13,D13,"m") -> 0 | J13: =DATEDIF(B13,E13,"m") -> 0 | L13: =H13/12 -> 0 | M13: =I13/12 -> 0 | N13: =J13/12 -> 0 | P13: =INT(L13)&" years / "&INT((L13-INT(L13))*12) -> 0 years / 0 | Q13: =INT(M13)&" years / "&INT((M13-INT(M13))*12) -> 0 years / 0 | R13: =INT(N13)&" years / "&INT((N13-INT(N13))*12) -> 0 years / 0
A14: =A13+1 -> 10 | B14: =Register!F15 -> 0 | C14: =Baseline!I17 -> 0 | D14: =Middle!E20 -> 0 | E14: =End!E18 -> 0 | H14: =DATEDIF(B14,C14,"m") -> 0 | I14: =DATEDIF(B14,D14,"m") -> 0 | J14: =DATEDIF(B14,E14,"m") -> 0 | L14: =H14/12 -> 0 | M14: =I14/12 -> 0 | N14: =J14/12 -> 0 | P14: =INT(L14)&" years / "&INT((L14-INT(L14))*12) -> 0 years / 0 | Q14: =INT(M14)&" years / "&INT((M14-INT(M14))*12) -> 0 years / 0 | R14: =INT(N14)&" years / "&INT((N14-INT(N14))*12) -> 0 years / 0
A15: =A14+1 -> 11 | B15: =Register!F16 -> 0 | C15: =Baseline!I18 -> 0 | D15: =Middle!E21 -> 0 | E15: =End!E19 -> 0 | H15: =DATEDIF(B15,C15,"m") -> 0 | I15: =DATEDIF(B15,D15,"m") -> 0 | J15: =DATEDIF(B15,E15,"m") -> 0 | L15: =H15/12 -> 0 | M15: =I15/12 -> 0 | N15: =J15/12 -> 0 | P15: =INT(L15)&" years / "&INT((L15-INT(L15))*12) -> 0 years / 0 | Q15: =INT(M15)&" years / "&INT((M15-INT(M15))*12) -> 0 years / 0 | R15: =INT(N15)&" years / "&INT((N15-INT(N15))*12) -> 0 years / 0
A16: =A15+1 -> 12 | B16: =Register!F17 -> 0 | C16: =Baseline!I19 -> 0 | D16: =Middle!E22 -> 0 | E16: =End!E20 -> 0 | H16: =DATEDIF(B16,C16,"m") -> 0 | I16: =DATEDIF(B16,D16,"m") -> 0 | J16: =DATEDIF(B16,E16,"m") -> 0 | L16: =H16/12 -> 0 | M16: =I16/12 -> 0 | N16: =J16/12 -> 0 | P16: =INT(L16)&" years / "&INT((L16-INT(L16))*12) -> 0 years / 0 | Q16: =INT(M16)&" years / "&INT((M16-INT(M16))*12) -> 0 years / 0 | R16: =INT(N16)&" years / "&INT((N16-INT(N16))*12) -> 0 years / 0
A17: =A16+1 -> 13 | B17: =Register!F18 -> 0 | C17: =Baseline!I20 -> 0 | D17: =Middle!E23 -> 0 | E17: =End!E21 -> 0 | H17: =DATEDIF(B17,C17,"m") -> 0 | I17: =DATEDIF(B17,D17,"m") -> 0 | J17: =DATEDIF(B17,E17,"m") -> 0 | L17: =H17/12 -> 0 | M17: =I17/12 -> 0 | N17: =J17/12 -> 0 | P17: =INT(L17)&" years / "&INT((L17-INT(L17))*12) -> 0 years / 0 | Q17: =INT(M17)&" years / "&INT((M17-INT(M17))*12) -> 0 years / 0 | R17: =INT(N17)&" years / "&INT((N17-INT(N17))*12) -> 0 years / 0
... A34: =A33+1 -> 30 | B34: =Register!F35 -> 0 | C34: =Baseline!I37 -> 0 | D34: =Middle!E40 -> 0 | E34: =End!E38 -> 0 | H34: =DATEDIF(B34,C34,"m") -> 0 | I34: =DATEDIF(B34,D34,"m") -> 0 | J34: =DATEDIF(B34,E34,"m") -> 0 | L34: =H34/12 -> 0 | M34: =I34/12 -> 0 | N34: =J34/12 -> 0 | P34: =INT(L34)&" years / "&INT((L34-INT(L34))*12) -> 0 years / 0 | Q34: =INT(M34)&" years / "&INT((M34-INT(M34))*12) -> 0 years / 0 | R34: =INT(N34)&" years / "&INT((N34-INT(N34))*12) -> 0 years / 0
A37: Base | H37: Base
A38: 1 | B38: =MID(Baseline!$K8,COLUMN()-1,1) -> 2 | C38: =MID(Baseline!$K8,COLUMN()-1,1) -> 3 | D38: =B38+6 -> 8 | E38: =C38/10 -> 0.3 | F38: =D38+E38 -> 8.3 | H38: 1 | I38: =Sheet12!B38 -> 2 | J38: =I38/10 -> 0.2 | K38: =J38+6 -> 6.2 | M38: FALSE | N38: =MID(End!$G9,COLUMN()-1,1)
A39: =A38+1 -> 2 | B39: =MID(Baseline!$K9,COLUMN()-1,1) | C39: =MID(Baseline!$K9,COLUMN()-1,1) | D39: =B39+6 -> #VALUE! | E39: =C39/10 -> #VALUE! | F39: =D39+E39 -> #VALUE! | H39: =H38+1 -> 2 | I39: =Sheet12!B39 | J39: =I39/10 -> #VALUE! | K39: =J39+6 -> #VALUE! | M39: FALSE
A40: =A39+1 -> 3 | B40: =MID(Baseline!$K10,COLUMN()-1,1) | C40: =MID(Baseline!$K10,COLUMN()-1,1) | D40: =B40+6 -> #VALUE! | E40: =C40/10 -> #VALUE! | F40: =D40+E40 -> #VALUE! | H40: =H39+1 -> 3 | I40: =Sheet12!B40 | J40: =I40/10 -> #VALUE! | K40: =J40+6 -> #VALUE! | M40: FALSE
A41: =A40+1 -> 4 | B41: =MID(Baseline!$K11,COLUMN()-1,1) | C41: =MID(Baseline!$K11,COLUMN()-1,1) | D41: =B41+6 -> #VALUE! | E41: =C41/10 -> #VALUE! | F41: =D41+E41 -> #VALUE! | H41: =H40+1 -> 4 | I41: =Sheet12!B41 | J41: =I41/10 -> #VALUE! | K41: =J41+6 -> #VALUE!
A42: =A41+1 -> 5 | B42: =MID(Baseline!$K12,COLUMN()-1,1) | C42: =MID(Baseline!$K12,COLUMN()-1,1) | D42: =B42+6 -> #VALUE! | E42: =C42/10 -> #VALUE! | F42: =D42+E42 -> #VALUE! | H42: =H41+1 -> 5 | I42: =Sheet12!B42 | J42: =I42/10 -> #VALUE! | K42: =J42+6 -> #VALUE!
A43: =A42+1 -> 6 | B43: =MID(Baseline!$K13,COLUMN()-1,1) | C43: =MID(Baseline!$K13,COLUMN()-1,1) | D43: =B43+6 -> #VALUE! | E43: =C43/10 -> #VALUE! | F43: =D43+E43 -> #VALUE! | H43: =H42+1 -> 6 | I43: =Sheet12!B43 | J43: =I43/10 -> #VALUE! | K43: =J43+6 -> #VALUE!
A44: =A43+1 -> 7 | B44: =MID(Baseline!$K14,COLUMN()-1,1) | C44: =MID(Baseline!$K14,COLUMN()-1,1) | D44: =B44+6 -> #VALUE! | E44: =C44/10 -> #VALUE! | F44: =D44+E44 -> #VALUE! | H44: =H43+1 -> 7 | I44: =Sheet12!B44 | J44: =I44/10 -> #VALUE! | K44: =J44+6 -> #VALUE!
A45: =A44+1 -> 8 | B45: =MID(Baseline!$K15,COLUMN()-1,1) | C45: =MID(Baseline!$K15,COLUMN()-1,1) | D45: =B45+6 -> #VALUE! | E45: =C45/10 -> #VALUE! | F45: =D45+E45 -> #VALUE! | H45: =H44+1 -> 8 | I45: =Sheet12!B45 | J45: =I45/10 -> #VALUE! | K45: =J45+6 -> #VALUE!
A46: =A45+1 -> 9 | B46: =MID(Baseline!$K16,COLUMN()-1,1) | C46: =MID(Baseline!$K16,COLUMN()-1,1) | D46: =B46+6 -> #VALUE! | E46: =C46/10 -> #VALUE! | F46: =D46+E46 -> #VALUE! | H46: =H45+1 -> 9 | I46: =Sheet12!B46 | J46: =I46/10 -> #VALUE! | K46: =J46+6 -> #VALUE!
A47: =A46+1 -> 10 | B47: =MID(Baseline!$K17,COLUMN()-1,1) | C47: =MID(Baseline!$K17,COLUMN()-1,1) | D47: =B47+6 -> #VALUE! | E47: =C47/10 -> #VALUE! | F47: =D47+E47 -> #VALUE! | H47: =H46+1 -> 10 | I47: =Sheet12!B47 | J47: =I47/10 -> #VALUE! | K47: =J47+6 -> #VALUE!
A48: =A47+1 -> 11 | B48: =MID(Baseline!$K18,COLUMN()-1,1) | C48: =MID(Baseline!$K18,COLUMN()-1,1) | D48: =B48+6 -> #VALUE! | E48: =C48/10 -> #VALUE! | F48: =D48+E48 -> #VALUE! | H48: =H47+1 -> 11 | I48: =Sheet12!B48 | J48: =I48/10 -> #VALUE! | K48: =J48+6 -> #VALUE!
A49: =A48+1 -> 12 | B49: =MID(Baseline!$K19,COLUMN()-1,1) | C49: =MID(Baseline!$K19,COLUMN()-1,1) | D49: =B49+6 -> #VALUE! | E49: =C49/10 -> #VALUE! | F49: =D49+E49 -> #VALUE! | H49: =H48+1 -> 12 | I49: =Sheet12!B49 | J49: =I49/10 -> #VALUE! | K49: =J49+6 -> #VALUE!
A50: =A49+1 -> 13 | B50: =MID(Baseline!$K20,COLUMN()-1,1) | C50: =MID(Baseline!$K20,COLUMN()-1,1) | D50: =B50+6 -> #VALUE! | E50: =C50/10 -> #VALUE! | F50: =D50+E50 -> #VALUE! | H50: =H49+1 -> 13 | I50: =Sheet12!B50 | J50: =I50/10 -> #VALUE! | K50: =J50+6 -> #VALUE!
A51: =A50+1 -> 14 | B51: =MID(Baseline!$K21,COLUMN()-1,1) | C51: =MID(Baseline!$K21,COLUMN()-1,1) | D51: =B51+6 -> #VALUE! | E51: =C51/10 -> #VALUE! | F51: =D51+E51 -> #VALUE! | H51: =H50+1 -> 14 | I51: =Sheet12!B51 | J51: =I51/10 -> #VALUE! | K51: =J51+6 -> #VALUE!
A52: =A51+1 -> 15 | B52: =MID(Baseline!$K22,COLUMN()-1,1) | C52: =MID(Baseline!$K22,COLUMN()-1,1) | D52: =B52+6 -> #VALUE! | E52: =C52/10 -> #VALUE! | F52: =D52+E52 -> #VALUE! | H52: =H51+1 -> 15 | I52: =Sheet12!B52 | J52: =I52/10 -> #VALUE! | K52: =J52+6 -> #VALUE!
... A67: =A66+1 -> 30 | B67: =MID(Baseline!$K37,COLUMN()-1,1) | C67: =MID(Baseline!$K37,COLUMN()-1,1) | D67: =B67+6 -> #VALUE! | E67: =C67/10 -> #VALUE! | F67: =D67+E67 -> #VALUE! | H67: =H66+1 -> 30 | I67: =Sheet12!B67 | J67: =I67/10 -> #VALUE! | K67: =J67+6 -> #VALUE!
A69: 1 | B69: =MID(Middle!$G11,COLUMN()-1,1) | C69: =MID(Middle!$G11,COLUMN()-1,1) | D69: =B69+6 -> #VALUE! | E69: =C69/10 -> #VALUE! | F69: =D69+E69 -> #VALUE! | H69: 1 | I69: =B69 | J69: =I69/10 -> #VALUE! | K69: =J69+6 -> #VALUE!
A70: =A69+1 -> 2 | B70: =MID(Middle!$G12,COLUMN()-1,1) | C70: =MID(Middle!$G12,COLUMN()-1,1) | D70: =B70+6 -> #VALUE! | E70: =C70/10 -> #VALUE! | F70: =D70+E70 -> #VALUE! | H70: =H69+1 -> 2 | I70: =B70 | J70: =I70/10 -> #VALUE! | K70: =J70+6 -> #VALUE!
A71: =A70+1 -> 3 | B71: =MID(Middle!$G13,COLUMN()-1,1) | C71: =MID(Middle!$G13,COLUMN()-1,1) | D71: =B71+6 -> #VALUE! | E71: =C71/10 -> #VALUE! | F71: =D71+E71 -> #VALUE! | H71: =H70+1 -> 3 | I71: =B71 | J71: =I71/10 -> #VALUE! | K71: =J71+6 -> #VALUE!
A72: =A71+1 -> 4 | B72: =MID(Middle!$G14,COLUMN()-1,1) | C72: =MID(Middle!$G14,COLUMN()-1,1) | D72: =B72+6 -> #VALUE! | E72: =C72/10 -> #VALUE! | F72: =D72+E72 -> #VALUE! | H72: =H71+1 -> 4 | I72: =B72 | J72: =I72/10 -> #VALUE! | K72: =J72+6 -> #VALUE!
A73: =A72+1 -> 5 | B73: =MID(Middle!$G15,COLUMN()-1,1) | C73: =MID(Middle!$G15,COLUMN()-1,1) | D73: =B73+6 -> #VALUE! | E73: =C73/10 -> #VALUE! | F73: =D73+E73 -> #VALUE! | H73: =H72+1 -> 5 | I73: =B73 | J73: =I73/10 -> #VALUE! | K73: =J73+6 -> #VALUE!
A74: =A73+1 -> 6 | B74: =MID(Middle!$G16,COLUMN()-1,1) | C74: =MID(Middle!$G16,COLUMN()-1,1) | D74: =B74+6 -> #VALUE! | E74: =C74/10 -> #VALUE! | F74: =D74+E74 -> #VALUE! | H74: =H73+1 -> 6 | I74: =B74 | J74: =I74/10 -> #VALUE! | K74: =J74+6 -> #VALUE!
A75: =A74+1 -> 7 | B75: =MID(Middle!$G17,COLUMN()-1,1) | C75: =MID(Middle!$G17,COLUMN()-1,1) | D75: =B75+6 -> #VALUE! | E75: =C75/10 -> #VALUE! | F75: =D75+E75 -> #VALUE! | H75: =H74+1 -> 7 | I75: =B75 | J75: =I75/10 -> #VALUE! | K75: =J75+6 -> #VALUE!
A76: =A75+1 -> 8 | B76: =MID(Middle!$G18,COLUMN()-1,1) | C76: =MID(Middle!$G18,COLUMN()-1,1) | D76: =B76+6 -> #VALUE! | E76: =C76/10 -> #VALUE! | F76: =D76+E76 -> #VALUE! | H76: =H75+1 -> 8 | I76: =B76 | J76: =I76/10 -> #VALUE! | K76: =J76+6 -> #VALUE!
...

Sheet Screening - Baseline - Mid
A3: Return to Navigation Page
B5: Wraparound Screening Tool
C7: Name | D7: Initials | E7: Date | F7: Stretching Words | G7: Counting Sounds | H7: Grapheme Identification | I7: Rhyming | J7: Syllabising | K7: Grow Words | L7: Parts of Speech
B8: 1 | C8: =Register!C6 -> Laura | D8: =Register!D6 -> F
B9: 2 | C9: =Register!C7 -> 0 | D9: =Register!D7 -> 0
B10: 3 | C10: =Register!C8 -> 0 | D10: =Register!D8 -> 0
B11: 4 | C11: =Register!C9 -> 0 | D11: =Register!D9 -> 0
B12: 5 | C12: =Register!C10 -> 0 | D12: =Register!D10 -> 0
B13: 6 | C13: =Register!C11 -> 0 | D13: =Register!D11 -> 0
B14: 7 | C14: =Register!C12 -> 0 | D14: =Register!D12 -> 0
B15: =B14+1 -> 8 | C15: =Register!C13 -> 0 | D15: =Register!D13 -> 0
B16: =B15+1 -> 9 | C16: =Register!C14 -> 0 | D16: =Register!D14 -> 0
B17: =B16+1 -> 10 | C17: =Register!C15 -> 0 | D17: =Register!D15 -> 0
B18: =B17+1 -> 11 | C18: =Register!C16 -> 0 | D18: =Register!D16 -> 0
B19: =B18+1 -> 12 | C19: =Register!C17 -> 0 | D19: =Register!D17 -> 0
B20: =B19+1 -> 13 | C20: =Register!C18 -> 0 | D20: =Register!D18 -> 0
B21: =B20+1 -> 14 | C21: =Register!C19 -> 0 | D21: =Register!D19 -> 0
B22: =B21+1 -> 15 | C22: =Register!C20 -> 0 | D22: =Register!D20 -> 0
B23: =B22+1 -> 16 | C23: =Register!C21 -> 0 | D23: =Register!D21 -> 0
B24: =B23+1 -> 17 | C24: =Register!C22 -> 0 | D24: =Register!D22 -> 0
B25: =B24+1 -> 18 | C25: =Register!C23 -> 0 | D25: =Register!D23 -> 0
B26: =B25+1 -> 19 | C26: =Register!C24 -> 0 | D26: =Register!D24 -> 0
... B32: =B31+1 -> 25 | C32: =Register!C30 -> 0 | D32: =Register!D30 -> 0
B33: =B32+1 -> 26 | C33: =Register!C31 -> 0 | D33: =Register!D31 -> 0 | P33: Code Book:
B34: =B33+1 -> 27 | C34: =Register!C32 -> 0 | D34: =Register!D32 -> 0
B35: =B34+1 -> 28 | C35: =Register!C33 -> 0 | D35: =Register!D33 -> 0 | P35: 0 | Q35: Absent
B36: =B35+1 -> 29 | C36: =Register!C34 -> 0 | D36: =Register!D34 -> 0 | P36: 1 | Q36: Early - No attempt made
B37: =B36+1 -> 30 | C37: =Register!C35 -> 0 | D37: =Register!D35 -> 0 | P37: 2 | Q37: Early - Making an attempt
P38: 3 | Q38: Early - shows consistent competence
P39: 4 | Q39: First - No attempt made
B40: Wraparound Screening Tool | P40: 5 | Q40: First - Making an attempt
P41: 6 | Q41: First - shows consistent competence
P42: 7 | Q42: Second - No attempt made
C43: Name | D43: Initials | E43: Date | F43: Stretching Words | G43: Counting Sounds | H43: Grapheme Identification | I43: Rhyming | J43: Syllabising | K43: Grow Words | L43: Parts of Speech | P43: 8 | Q43: Second - Making an attempt
B44: 1 | C44: =Register!C6 -> Laura | D44: =Register!D6 -> F | P44: 9 | Q44: Second -shows consistent competence
B45: 2 | C45: =Register!C7 -> 0 | D45: =Register!D7 -> 0
B46: 3 | C46: =Register!C8 -> 0 | D46: =Register!D8 -> 0
B47: 4 | C47: =Register!C9 -> 0 | D47: =Register!D9 -> 0
B48: 5 | C48: =Register!C10 -> 0 | D48: =Register!D10 -> 0
B49: 6 | C49: =Register!C11 -> 0 | D49: =Register!D11 -> 0
...

Sheet Middle
A3: Return to Navigation Page
B5: Blackwell Spelling Assessment
G7: Click here for scores < 10
C10: Name | D10: Initials | E10: Date | F10: Age(Assessment 2) | G10: Raw Score | H10: Age Equivalence(Assessment 2) | I10: <10 | J10: CfE Level | K10: Days Absent | L10: CfE Level
B11: 1 | C11: =Register!C6 -> Laura | D11: =Register!D6 -> F | F11: =Sheet12!Q5 -> #NUM! | H11: =Sheet12!F69 -> #VALUE! | I11: =Sheet12!K69 -> #VALUE! | L11: 0 | M11: Early
B12: 2 | C12: =Register!C7 -> 0 | D12: =Register!D7 -> 0 | F12: =Sheet12!Q6 -> 0 years / 0 | H12: =Sheet12!F70 -> #VALUE! | I12: =Sheet12!K70 -> #VALUE! | L12: 1 | M12: First
B13: 3 | C13: =Register!C8 -> 0 | D13: =Register!D8 -> 0 | F13: =Sheet12!Q7 -> 0 years / 0 | H13: =Sheet12!F71 -> #VALUE! | I13: =Sheet12!K71 -> #VALUE! | L13: 2 | M13: Second
B14: 4 | C14: =Register!C9 -> 0 | D14: =Register!D9 -> 0 | F14: =Sheet12!Q8 -> 0 years / 0 | H14: =Sheet12!F72 -> #VALUE! | I14: =Sheet12!K72 -> #VALUE!
B15: 5 | C15: =Register!C10 -> 0 | D15: =Register!D10 -> 0 | F15: =Sheet12!Q9 -> 0 years / 0 | H15: =Sheet12!F73 -> #VALUE! | I15: =Sheet12!K73 -> #VALUE!
B16: 6 | C16: =Register!C11 -> 0 | D16: =Register!D11 -> 0 | F16: =Sheet12!Q10 -> 0 years / 0 | H16: =Sheet12!F74 -> #VALUE! | I16: =Sheet12!K74 -> #VALUE!
B17: 7 | C17: =Register!C12 -> 0 | D17: =Register!D12 -> 0 | F17: =Sheet12!Q11 -> 0 years / 0 | H17: =Sheet12!F75 -> #VALUE! | I17: =Sheet12!K75 -> #VALUE!
B18: =B17+1 -> 8 | C18: =Register!C13 -> 0 | D18: =Register!D13 -> 0 | F18: =Sheet12!Q12 -> 0 years / 0 | H18: =Sheet12!F76 -> #VALUE! | I18: =Sheet12!K76 -> #VALUE!
B19: =B18+1 -> 9 | C19: =Register!C14 -> 0 | D19: =Register!D14 -> 0 | F19: =Sheet12!Q13 -> 0 years / 0 | H19: =Sheet12!F77 -> #VALUE! | I19: =Sheet12!K77 -> #VALUE!
B20: =B19+1 -> 10 | C20: =Register!C15 -> 0 | D20: =Register!D15 -> 0 | F20: =Sheet12!Q14 -> 0 years / 0 | H20: =Sheet12!F78 -> #VALUE! | I20: =Sheet12!K78 -> #VALUE!
B21: =B20+1 -> 11 | C21: =Register!C16 -> 0 | D21: =Register!D16 -> 0 | F21: =Sheet12!Q15 -> 0 years / 0 | H21: =Sheet12!F79 -> #VALUE! | I21: =Sheet12!K79 -> #VALUE! | O21: 1. What is the information from the Blackwell/Spelling Monitoring Sheets telling you?
B22: =B21+1 -> 12 | C22: =Register!C17 -> 0 | D22: =Register!D17 -> 0 | F22: =Sheet12!Q16 -> 0 years / 0 | H22: =Sheet12!F80 -> #VALUE! | I22: =Sheet12!K80 -> #VALUE!
B23: =B22+1 -> 13 | C23: =Register!C18 -> 0 | D23: =Register!D18 -> 0 | F23: =Sheet12!Q17 -> 0 years / 0 | H23: =Sheet12!F81 -> #VALUE! | I23: =Sheet12!K81 -> #VALUE!
B24: =B23+1 -> 14 | C24: =Register!C19 -> 0 | D24: =Register!D19 -> 0 | F24: =Sheet12!Q18 -> 0 years / 0 | H24: =Sheet12!F82 -> #VALUE! | I24: =Sheet12!K82 -> #VALUE!
B25: =B24+1 -> 15 | C25: =Register!C20 -> 0 | D25: =Register!D20 -> 0 | F25: =Sheet12!Q19 -> 0 years / 0 | H25: =Sheet12!F83 -> #VALUE! | I25: =Sheet12!K83 -> #VALUE!
B26: =B25+1 -> 16 | C26: =Register!C21 -> 0 | D26: =Register!D21 -> 0 | F26: =Sheet12!Q20 -> 0 years / 0 | H26: =Sheet12!F84 -> #VALUE! | I26: =Sheet12!K84 -> #VALUE!
B27: =B26+1 -> 17 | C27: =Register!C22 -> 0 | D27: =Register!D22 -> 0 | F27: =Sheet12!Q21 -> 0 years / 0 | H27: =Sheet12!F85 -> #VALUE! | I27: =Sheet12!K85 -> #VALUE!
B28: =B27+1 -> 18 | C28: =Register!C23 -> 0 | D28: =Register!D23 -> 0 | F28: =Sheet12!Q22 -> 0 years / 0 | H28: =Sheet12!F86 -> #VALUE! | I28: =Sheet12!K86 -> #VALUE!
B29: =B28+1 -> 19 | C29: =Register!C24 -> 0 | D29: =Register!D24 -> 0 | F29: =Sheet12!Q23 -> 0 years / 0 | H29: =Sheet12!F87 -> #VALUE! | I29: =Sheet12!K87 -> #VALUE!
B30: =B29+1 -> 20 | C30: =Register!C25 -> 0 | D30: =Register!D25 -> 0 | F30: =Sheet12!Q24 -> 0 years / 0 | H30: =Sheet12!F88 -> #VALUE! | I30: =Sheet12!K88 -> #VALUE!
B31: =B30+1 -> 21 | C31: =Register!C26 -> 0 | D31: =Register!D26 -> 0 | F31: =Sheet12!Q25 -> 0 years / 0 | H31: =Sheet12!F89 -> #VALUE! | I31: =Sheet12!K89 -> #VALUE!
B32: =B31+1 -> 22 | C32: =Register!C27 -> 0 | D32: =Register!D27 -> 0 | F32: =Sheet12!Q26 -> 0 years / 0 | H32: =Sheet12!F90 -> #VALUE! | I32: =Sheet12!K90 -> #VALUE!
B33: =B32+1 -> 23 | C33: =Register!C28 -> 0 | D33: =Register!D28 -> 0 | F33: =Sheet12!Q27 -> 0 years / 0 | H33: =Sheet12!F91 -> #VALUE! | I33: =Sheet12!K91 -> #VALUE!
B34: =B33+1 -> 24 | C34: =Register!C29 -> 0 | D34: =Register!D29 -> 0 | F34: =Sheet12!Q28 -> 0 years / 0 | H34: =Sheet12!F92 -> #VALUE! | I34: =Sheet12!K92 -> #VALUE!
B35: =B34+1 -> 25 | C35: =Register!C30 -> 0 | D35: =Register!D30 -> 0 | F35: =Sheet12!Q29 -> 0 years / 0 | H35: =Sheet12!F93 -> #VALUE! | I35: =Sheet12!K93 -> #VALUE! | O35: 2. Using the Wraparound materials,how do you plan on doing to tackle the issues you think are presented?
B36: =B35+1 -> 26 | C36: =Register!C31 -> 0 | D36: =Register!D31 -> 0 | F36: =Sheet12!Q30 -> 0 years / 0 | H36: =Sheet12!F94 -> #VALUE! | I36: =Sheet12!K94 -> #VALUE!
B37: =B36+1 -> 27 | C37: =Register!C32 -> 0 | D37: =Register!D32 -> 0 | F37: =Sheet12!Q31 -> 0 years / 0 | H37: =Sheet12!F95 -> #VALUE! | I37: =Sheet12!K95 -> #VALUE!
B38: =B37+1 -> 28 | C38: =Register!C33 -> 0 | D38: =Register!D33 -> 0 | F38: =Sheet12!Q32 -> 0 years / 0 | H38: =Sheet12!F96 -> #VALUE! | I38: =Sheet12!K96 -> #VALUE!
B39: =B38+1 -> 29 | C39: =Register!C34 -> 0 | D39: =Register!D34 -> 0 | F39: =Sheet12!Q33 -> 0 years / 0 | H39: =Sheet12!F97 -> #VALUE! | I39: =Sheet12!K97 -> #VALUE!
B40: =B39+1 -> 30 | C40: =Register!C35 -> 0 | D40: =Register!D35 -> 0 | F40: =Sheet12!Q34 -> 0 years / 0 | H40: =Sheet12!F98 -> #VALUE! | I40: =Sheet12!K98 -> #VALUE!
B42: Wraparound Screening Tool
C44: Name | D44: Initials | E44: Date | F44: Stretching Words | G44: Counting Sounds | H44: Grapheme Identification | I44: Rhyming | J44: Syllabising | K44: Grow Words | L44: Parts of Speech
B45: 1 | C45: =Register!C6 -> Laura | D45: =Register!D6 -> F
B46: 2 | C46: =Register!C7 -> 0 | D46: =Register!D7 -> 0
B47: 3 | C47: =Register!C8 -> 0 | D47: =Register!D8 -> 0
B48: 4 | C48: =Register!C9 -> 0 | D48: =Register!D9 -> 0
...

Sheet Screening - Mid - End 
A3: Return to Navigation Page
C5: Wraparound Screening Tool
D7: Name | E7: Initials | F7: Date | G7: Stretching Words | H7: Counting Sounds | I7: Grapheme Identification | J7: Rhyming | K7: Syllabising | L7: Grow Words | M7: Parts of Speech
C8: 1 | D8: =Register!C6 -> Laura | E8: =Register!D6 -> F
C9: 2 | D9: =Register!C7 -> 0 | E9: =Register!D7 -> 0
C10: 3 | D10: =Register!C8 -> 0 | E10: =Register!D8 -> 0
C11: 4 | D11: =Register!C9 -> 0 | E11: =Register!D9 -> 0
C12: 5 | D12: =Register!C10 -> 0 | E12: =Register!D10 -> 0
C13: 6 | D13: =Register!C11 -> 0 | E13: =Register!D11 -> 0
C14: 7 | D14: =Register!C12 -> 0 | E14: =Register!D12 -> 0
C15: =C14+1 -> 8 | D15: =Register!C13 -> 0 | E15: =Register!D13 -> 0
C16: =C15+1 -> 9 | D16: =Register!C14 -> 0 | E16: =Register!D14 -> 0
C17: =C16+1 -> 10 | D17: =Register!C15 -> 0 | E17: =Register!D15 -> 0
C18: =C17+1 -> 11 | D18: =Register!C16 -> 0 | E18: =Register!D16 -> 0
C19: =C18+1 -> 12 | D19: =Register!C17 -> 0 | E19: =Register!D17 -> 0
C20: =C19+1 -> 13 | D20: =Register!C18 -> 0 | E20: =Register!D18 -> 0
C21: =C20+1 -> 14 | D21: =Register!C19 -> 0 | E21: =Register!D19 -> 0
C22: =C21+1 -> 15 | D22: =Register!C20 -> 0 | E22: =Register!D20 -> 0
C23: =C22+1 -> 16 | D23: =Register!C21 -> 0 | E23: =Register!D21 -> 0
C24: =C23+1 -> 17 | D24: =Register!C22 -> 0 | E24: =Register!D22 -> 0
C25: =C24+1 -> 18 | D25: =Register!C23 -> 0 | E25: =Register!D23 -> 0
C26: =C25+1 -> 19 | D26: =Register!C24 -> 0 | E26: =Register!D24 -> 0
... C33: =C32+1 -> 26 | D33: =Register!C31 -> 0 | E33: =Register!D31 -> 0
C34: =C33+1 -> 27 | D34: =Register!C32 -> 0 | E34: =Register!D32 -> 0 | P34: Code Book:
C35: =C34+1 -> 28 | D35: =Register!C33 -> 0 | E35: =Register!D33 -> 0
C36: =C35+1 -> 29 | D36: =Register!C34 -> 0 | E36: =Register!D34 -> 0 | P36: 0 | Q36: Absent
C37: =C36+1 -> 30 | D37: =Register!C35 -> 0 | E37: =Register!D35 -> 0 | P37: 1 | Q37: Early - No attempt made
P38: 2 | Q38: Early - Making an attempt
P39: 3 | Q39: Early - shows consistent competence
C40: Wraparound Screening Tool | P40: 4 | Q40: First - No attempt made
P41: 5 | Q41: First - Making an attempt
D42: Name | E42: Initials | F42: Date | G42: Stretching Words | H42: Counting Sounds | I42: Grapheme Identification | J42: Rhyming | K42: Syllabising | L42: Grow Words | M42: Parts of Speech | P42: 6 | Q42: First - shows consistent competence
C43: 1 | D43: =Register!C6 -> Laura | E43: =Register!D6 -> F | P43: 7 | Q43: Second - No attempt made
C44: 2 | D44: =Register!C7 -> 0 | E44: =Register!D7 -> 0 | P44: 8 | Q44: Second - Making an attempt
C45: 3 | D45: =Register!C8 -> 0 | E45: =Register!D8 -> 0 | P45: 9 | Q45: Second -shows consistent competence
C46: 4 | D46: =Register!C9 -> 0 | E46: =Register!D9 -> 0
C47: 5 | D47: =Register!C10 -> 0 | E47: =Register!D10 -> 0
C48: 6 | D48: =Register!C11 -> 0 | E48: =Register!D11 -> 0
C49: 7 | D49: =Register!C12 -> 0 | E49: =Register!D12 -> 0
C50: =C49+1 -> 8 | D50: =Register!C13 -> 0 | E50: =Register!D13 -> 0
...

Sheet End
A2: Return to Navigation Page
B4: Blackwell Spelling Assessment
G5: Click here for scores < 10
C8: Name | D8: Initials | E8: Date | F8: Age(Assessment 3) | G8: Raw Score | H8: Age Equivalence(Assessment 3) | I8: <10 | J8: CfE Level | K8: Days Absent | L8: CfE Level
B9: 1 | C9: =Register!C6 -> Laura | D9: =Register!D6 -> F | F9: =Sheet12!R5 -> #NUM! | H9: =Sheet12!F100 -> #VALUE! | I9: =Sheet12!K100 -> #VALUE! | L9: 0 | M9: Early
B10: 2 | C10: =Register!C7 -> 0 | D10: =Register!D7 -> 0 | F10: =Sheet12!R6 -> 0 years / 0 | H10: =Sheet12!F101 -> #VALUE! | I10: =Sheet12!K101 -> #VALUE! | L10: 1 | M10: First
B11: 3 | C11: =Register!C8 -> 0 | D11: =Register!D8 -> 0 | F11: =Sheet12!R7 -> 0 years / 0 | H11: =Sheet12!F102 -> #VALUE! | I11: =Sheet12!K102 -> #VALUE! | L11: 2 | M11: Second
B12: 4 | C12: =Register!C9 -> 0 | D12: =Register!D9 -> 0 | F12: =Sheet12!R8 -> 0 years / 0 | H12: =Sheet12!F103 -> #VALUE! | I12: =Sheet12!K103 -> #VALUE!
B13: 5 | C13: =Register!C10 -> 0 | D13: =Register!D10 -> 0 | F13: =Sheet12!R9 -> 0 years / 0 | H13: =Sheet12!F104 -> #VALUE! | I13: =Sheet12!K104 -> #VALUE!
B14: 6 | C14: =Register!C11 -> 0 | D14: =Register!D11 -> 0 | F14: =Sheet12!R10 -> 0 years / 0 | H14: =Sheet12!F105 -> #VALUE! | I14: =Sheet12!K105 -> #VALUE!
B15: 7 | C15: =Register!C12 -> 0 | D15: =Register!D12 -> 0 | F15: =Sheet12!R11 -> 0 years / 0 | H15: =Sheet12!F106 -> #VALUE! | I15: =Sheet12!K106 -> #VALUE!
B16: =B15+1 -> 8 | C16: =Register!C13 -> 0 | D16: =Register!D13 -> 0 | F16: =Sheet12!R12 -> 0 years / 0 | H16: =Sheet12!F107 -> #VALUE! | I16: =Sheet12!K107 -> #VALUE!
B17: =B16+1 -> 9 | C17: =Register!C14 -> 0 | D17: =Register!D14 -> 0 | F17: =Sheet12!R13 -> 0 years / 0 | H17: =Sheet12!F108 -> #VALUE! | I17: =Sheet12!K108 -> #VALUE!
B18: =B17+1 -> 10 | C18: =Register!C15 -> 0 | D18: =Register!D15 -> 0 | F18: =Sheet12!R14 -> 0 years / 0 | H18: =Sheet12!F109 -> #VALUE! | I18: =Sheet12!K109 -> #VALUE!
B19: =B18+1 -> 11 | C19: =Register!C16 -> 0 | D19: =Register!D16 -> 0 | F19: =Sheet12!R15 -> 0 years / 0 | H19: =Sheet12!F110 -> #VALUE! | I19: =Sheet12!K110 -> #VALUE!
B20: =B19+1 -> 12 | C20: =Register!C17 -> 0 | D20: =Register!D17 -> 0 | F20: =Sheet12!R16 -> 0 years / 0 | H20: =Sheet12!F111 -> #VALUE! | I20: =Sheet12!K111 -> #VALUE! | P20: 1. What is the information from the Blackwell/Spelling Monitoring Sheets telling you?
B21: =B20+1 -> 13 | C21: =Register!C18 -> 0 | D21: =Register!D18 -> 0 | F21: =Sheet12!R17 -> 0 years / 0 | H21: =Sheet12!F112 -> #VALUE! | I21: =Sheet12!K112 -> #VALUE!
B22: =B21+1 -> 14 | C22: =Register!C19 -> 0 | D22: =Register!D19 -> 0 | F22: =Sheet12!R18 -> 0 years / 0 | H22: =Sheet12!F113 -> #VALUE! | I22: =Sheet12!K113 -> #VALUE!
B23: =B22+1 -> 15 | C23: =Register!C20 -> 0 | D23: =Register!D20 -> 0 | F23: =Sheet12!R19 -> 0 years / 0 | H23: =Sheet12!F114 -> #VALUE! | I23: =Sheet12!K114 -> #VALUE!
B24: =B23+1 -> 16 | C24: =Register!C21 -> 0 | D24: =Register!D21 -> 0 | F24: =Sheet12!R20 -> 0 years / 0 | H24: =Sheet12!F115 -> #VALUE! | I24: =Sheet12!K115 -> #VALUE!
B25: =B24+1 -> 17 | C25: =Register!C22 -> 0 | D25: =Register!D22 -> 0 | F25: =Sheet12!R21 -> 0 years / 0 | H25: =Sheet12!F116 -> #VALUE! | I25: =Sheet12!K116 -> #VALUE!
B26: =B25+1 -> 18 | C26: =Register!C23 -> 0 | D26: =Register!D23 -> 0 | F26: =Sheet12!R22 -> 0 years / 0 | H26: =Sheet12!F117 -> #VALUE! | I26: =Sheet12!K117 -> #VALUE!
B27: =B26+1 -> 19 | C27: =Register!C24 -> 0 | D27: =Register!D24 -> 0 | F27: =Sheet12!R23 -> 0 years / 0 | H27: =Sheet12!F118 -> #VALUE! | I27: =Sheet12!K118 -> #VALUE!
B28: =B27+1 -> 20 | C28: =Register!C25 -> 0 | D28: =Register!D25 -> 0 | F28: =Sheet12!R24 -> 0 years / 0 | H28: =Sheet12!F119 -> #VALUE! | I28: =Sheet12!K119 -> #VALUE!
B29: =B28+1 -> 21 | C29: =Register!C26 -> 0 | D29: =Register!D26 -> 0 | F29: =Sheet12!R25 -> 0 years / 0 | H29: =Sheet12!F120 -> #VALUE! | I29: =Sheet12!K120 -> #VALUE!
B30: =B29+1 -> 22 | C30: =Register!C27 -> 0 | D30: =Register!D27 -> 0 | F30: =Sheet12!R26 -> 0 years / 0 | H30: =Sheet12!F121 -> #VALUE! | I30: =Sheet12!K121 -> #VALUE!
B31: =B30+1 -> 23 | C31: =Register!C28 -> 0 | D31: =Register!D28 -> 0 | F31: =Sheet12!R27 -> 0 years / 0 | H31: =Sheet12!F122 -> #VALUE! | I31: =Sheet12!K122 -> #VALUE!
B32: =B31+1 -> 24 | C32: =Register!C29 -> 0 | D32: =Register!D29 -> 0 | F32: =Sheet12!R28 -> 0 years / 0 | H32: =Sheet12!F123 -> #VALUE! | I32: =Sheet12!K123 -> #VALUE!
B33: =B32+1 -> 25 | C33: =Register!C30 -> 0 | D33: =Register!D30 -> 0 | F33: =Sheet12!R29 -> 0 years / 0 | H33: =Sheet12!F124 -> #VALUE! | I33: =Sheet12!K124 -> #VALUE!
B34: =B33+1 -> 26 | C34: =Register!C31 -> 0 | D34: =Register!D31 -> 0 | F34: =Sheet12!R30 -> 0 years / 0 | H34: =Sheet12!F125 -> #VALUE! | I34: =Sheet12!K125 -> #VALUE! | P34: 2. Would you change any elements of how the materials are used or presented?
B35: =B34+1 -> 27 | C35: =Register!C32 -> 0 | D35: =Register!D32 -> 0 | F35: =Sheet12!R31 -> 0 years / 0 | H35: =Sheet12!F126 -> #VALUE! | I35: =Sheet12!K126 -> #VALUE!
B36: =B35+1 -> 28 | C36: =Register!C33 -> 0 | D36: =Register!D33 -> 0 | F36: =Sheet12!R32 -> 0 years / 0 | H36: =Sheet12!F127 -> #VALUE! | I36: =Sheet12!K127 -> #VALUE!
B37: =B36+1 -> 29 | C37: =Register!C34 -> 0 | D37: =Register!D34 -> 0 | F37: =Sheet12!R33 -> 0 years / 0 | H37: =Sheet12!F128 -> #VALUE! | I37: =Sheet12!K128 -> #VALUE!
B38: =B37+1 -> 30 | C38: =Register!C35 -> 0 | D38: =Register!D35 -> 0 | F38: =Sheet12!R34 -> 0 years / 0 | H38: =Sheet12!F129 -> #VALUE! | I38: =Sheet12!K129 -> #VALUE!
B40: Wraparound Screening Tool
C42: Name | D42: Initials | E42: Date | F42: Stretching Words | G42: Counting Sounds | H42: Grapheme Identification | I42: Rhyming | J42: Syllabisng | K42: Grow Words | L42: Parts of Speech
B43: 1 | C43: =Register!C6 -> Laura | D43: =Register!D6 -> F
B44: 2 | C44: =Register!C7 -> 0 | D44: =Register!D7 -> 0
B45: 3 | C45: =Register!C8 -> 0 | D45: =Register!D8 -> 0
B46: 4 | C46: =Register!C9 -> 0 | D46: =Register!D9 -> 0
...

Sheet Raw Data
C1: Demographics | I1: Baseline | U1: Baseline - Mid | AI1: Mid | AV1: Mid-End | BL1: End
A2: School | B2: Primary | C2: ID | D2: Gender | E2: SIMD | F2: ASN | G2: EAL | H2: Prev_ExP | I2: Date_Black1 | J2: Ch_Age1 | K2: Black_Score1 | L2: Age_Equi1 | M2: CfE | N2: StWords_1 | O2: CoSounds_1 | P2: GrIdent_1 | Q2: Rhym_1 | R2: Syllab_1 | S2: Grow_W1 | T2: POS_W1 | U2: StWords_2 | V2: CoSounds_2 | W2: GrIdent_2 | X2: Rhym_2 | Y2: Syllab_2 | Z2: Grow_W2 | AA2: POS_W2 | AB2: StWords_3 | AC2: CoSounds_3 | AD2: GrIdent_3 | AE2: Rhym_3 | AF2: Syllab_3 | AG2: Grow_W3 | AH2: POS_W3 | AI2: Date_Black2 | AJ2: Ch_Age2 | AK2: Black_Score2 | AL2: Age_Equi2 | AM2: CfE2 | AN2: Days Absent | AO2: StWords_4 | AP2: CoSounds_4 | AQ2: GrIdent_4 | AR2: Rhym_4 | AS2: Syllab_4 | AT2: Grow_W4 | AU2: POS_W4 | AV2: StWords_5 | AW2: CoSounds_5 | AX2: GrIdent_5 | AY2: Rhym_5 | AZ2: Syllab_5 | BA2: Grow_W5 | BB2: POS_W5 | BC2: StWords_6 | BD2: CoSounds_6 | BE2: GrIdent_6 | BF2: Rhym_6 | BG2: Syllab_6 | BH2: Grow_W6 | BI2: POS_W6 | BJ2: Date_Black3 | BK2: Ch_Age3 | BL2: Black_Score3 | BM2: Age_Equi3 | BN2: CfE3 | BO2: Days Absent | BP2: StWords_7 | BQ2: CoSounds_7 | BR2: GrIdent_7 | BS2: Rhym_7 | BT2: Syllab_7 | BU2: Grow_W7 | BV2: POS_W7
A3: =Register!F3 -> Enter Here | B3: =Register!I3 -> 2/3/4/5/6 | C3: 1 | D3: =Register!D6 -> F | E3: =Register!G6 -> 5 | F3: =Register!H6 -> 0 | G3: =Register!I6 -> 0 | H3: =Register!J6 -> N | I3: =Baseline!I8 -> 43360 | J3: =Baseline!J8 -> 26 years / 0 | K3: =Baseline!K8 -> 23 | L3: =Baseline!L8 -> 8.3 | M3: =Register!K6 -> 2 | N3: =Baseline!G42 -> 0 | O3: =Baseline!H42 -> 0 | P3: =Baseline!I42 -> 0 | Q3: =Baseline!J42 -> 0 | R3: =Baseline!K42 -> 0 | S3: =Baseline!L42 -> 0 | T3: =Baseline!M42 -> 0 | U3: ='Screening - Baseline - Mid'!F8 -> 0 | V3: ='Screening - Baseline - Mid'!G8 -> 0 | W3: ='Screening - Baseline - Mid'!H8 -> 0 | X3: ='Screening - Baseline - Mid'!I8 -> 0 | Y3: ='Screening - Baseline - Mid'!J8 -> 0 | Z3: ='Screening - Baseline - Mid'!K8 -> 0 | AA3: ='Screening - Baseline - Mid'!L8 -> 0 | AB3: ='Screening - Baseline - Mid'!F44 -> 0 | AC3: ='Screening - Baseline - Mid'!G44 -> 0 | AD3: ='Screening - Baseline - Mid'!H44 -> 0 | AE3: ='Screening - Baseline - Mid'!I44 -> 0 | AF3: ='Screening - Baseline - Mid'!J44 -> 0 | AG3: ='Screening - Baseline - Mid'!K44 -> 0 | AH3: ='Screening - Baseline - Mid'!L44 -> 0 | AI3: =Middle!E11 -> 0 | AJ3: =Middle!F11 -> #NUM! | AK3: =Middle!G11 -> 0 | AL3: =Middle!H11 -> #VALUE! | AM3: =Middle!J11 -> 0 | AN3: =Middle!K11 -> 0 | AO3: =Middle!F45 -> 0 | AP3: =Middle!G45 -> 0 | AQ3: =Middle!H45 -> 0 | AR3: =Middle!I45 -> 0 | AS3: =Middle!J45 -> 0 | AT3: =Middle!K45 -> 0 | AU3: =Middle!L45 -> 0 | AV3: ='Screening - Mid - End '!G8 -> 0 | AW3: ='Screening - Mid - End '!H8 -> 0 | AX3: ='Screening - Mid - End '!I8 -> 0 | AY3: ='Screening - Mid - End '!J8 -> 0 | AZ3: ='Screening - Mid - End '!K8 -> 0 | BA3: ='Screening - Mid - End '!L8 -> 0 | BB3: ='Screening - Mid - End '!M8 -> 0 | BC3: ='Screening - Mid - End '!G43 -> 0 | BD3: ='Screening - Mid - End '!H43 -> 0 | BE3: ='Screening - Mid - End '!I43 -> 0 | BF3: ='Screening - Mid - End '!J43 -> 0 | BG3: ='Screening - Mid - End '!K43 -> 0 | BH3: ='Screening - Mid - End '!L43 -> 0 | BI3: ='Screening - Mid - End '!M43 -> 0 | BJ3: =End!E9 -> 0 | BK3: =End!F9 -> #NUM! | BL3: =End!G9 -> 0 | BM3: =End!H9 -> #VALUE! | BN3: =End!J9 -> 0 | BO3: =End!K9 -> 0 | BP3: =End!F43 -> 0 | BQ3: =End!G43 -> 0 | BR3: =End!H43 -> 0 | BS3: =End!I43 -> 0 | BT3: =End!J43 -> 0 | BU3: =End!K43 -> 0 | BV3: =End!L43 -> 0
C4: 2 | D4: =Register!D7 -> 0 | E4: =Register!G7 -> 0 | F4: =Register!H7 -> 0 | G4: =Register!I7 -> 0 | H4: =Register!J7 -> 0 | I4: =Baseline!I9 -> 0 | J4: =Baseline!J9 -> 0 years / 0 | K4: =Baseline!K9 -> 0 | L4: =Baseline!L9 -> #VALUE! | M4: =Register!K7 -> 0 | N4: =Baseline!G43 -> 0 | O4: =Baseline!H43 -> 0 | P4: =Baseline!I43 -> 0 | Q4: =Baseline!J43 -> 0 | R4: =Baseline!K43 -> 0 | S4: =Baseline!L43 -> 0 | T4: =Baseline!M43 -> 0 | U4: ='Screening - Baseline - Mid'!F9 -> 0 | V4: ='Screening - Baseline - Mid'!G9 -> 0 | W4: ='Screening - Baseline - Mid'!H9 -> 0 | X4: ='Screening - Baseline - Mid'!I9 -> 0 | Y4: ='Screening - Baseline - Mid'!J9 -> 0 | Z4: ='Screening - Baseline - Mid'!K9 -> 0 | AA4: ='Screening - Baseline - Mid'!L9 -> 0 | AB4: ='Screening - Baseline - Mid'!F45 -> 0 | AC4: ='Screening - Baseline - Mid'!G45 -> 0 | AD4: ='Screening - Baseline - Mid'!H45 -> 0 | AE4: ='Screening - Baseline - Mid'!I45 -> 0 | AF4: ='Screening - Baseline - Mid'!J45 -> 0 | AG4: ='Screening - Baseline - Mid'!K45 -> 0 | AH4: ='Screening - Baseline - Mid'!L45 -> 0 | AI4: =Middle!E12 -> 0 | AJ4: =Middle!F12 -> 0 years / 0 | AK4: =Middle!G12 -> 0 | AL4: =Middle!H12 -> #VALUE! | AM4: =Middle!J12 -> 0 | AN4: =Middle!K12 -> 0 | AO4: =Middle!F46 -> 0 | AP4: =Middle!G46 -> 0 | AQ4: =Middle!H46 -> 0 | AR4: =Middle!I46 -> 0 | AS4: =Middle!J46 -> 0 | AT4: =Middle!K46 -> 0 | AU4: =Middle!L46 -> 0 | AV4: ='Screening - Mid - End '!G9 -> 0 | AW4: ='Screening - Mid - End '!H9 -> 0 | AX4: ='Screening - Mid - End '!I9 -> 0 | AY4: ='Screening - Mid - End '!J9 -> 0 | AZ4: ='Screening - Mid - End '!K9 -> 0 | BA4: ='Screening - Mid - End '!L9 -> 0 | BB4: ='Screening - Mid - End '!M9 -> 0 | BC4: ='Screening - Mid - End '!G44 -> 0 | BD4: ='Screening - Mid - End '!H44 -> 0 | BE4: ='Screening - Mid - End '!I44 -> 0 | BF4: ='Screening - Mid - End '!J44 -> 0 | BG4: ='Screening - Mid - End '!K44 -> 0 | BH4: ='Screening - Mid - End '!L44 -> 0 | BI4: ='Screening - Mid - End '!M44 -> 0 | BJ4: =End!E10 -> 0 | BK4: =End!F10 -> 0 years / 0 | BL4: =End!G10 -> 0 | BM4: =End!H10 -> #VALUE! | BN4: =End!J10 -> 0 | BO4: =End!K10 -> 0 | BP4: =End!F44 -> 0 | BQ4: =End!G44 -> 0 | BR4: =End!H44 -> 0 | BS4: =End!I44 -> 0 | BT4: =End!J44 -> 0 | BU4: =End!K44 -> 0 | BV4: =End!L44 -> 0
C5: 3 | D5: =Register!D8 -> 0 | E5: =Register!G8 -> 0 | F5: =Register!H8 -> 0 | G5: =Register!I8 -> 0 | H5: =Register!J8 -> 0 | I5: =Baseline!I10 -> 0 | J5: =Baseline!J10 -> 0 years / 0 | K5: =Baseline!K10 -> 0 | L5: =Baseline!L10 -> #VALUE! | M5: =Register!K8 -> 0 | N5: =Baseline!G44 -> 0 | O5: =Baseline!H44 -> 0 | P5: =Baseline!I44 -> 0 | Q5: =Baseline!J44 -> 0 | R5: =Baseline!K44 -> 0 | S5: =Baseline!L44 -> 0 | T5: =Baseline!M44 -> 0 | U5: ='Screening - Baseline - Mid'!F10 -> 0 | V5: ='Screening - Baseline - Mid'!G10 -> 0 | W5: ='Screening - Baseline - Mid'!H10 -> 0 | X5: ='Screening - Baseline - Mid'!I10 -> 0 | Y5: ='Screening - Baseline - Mid'!J10 -> 0 | Z5: ='Screening - Baseline - Mid'!K10 -> 0 | AA5: ='Screening - Baseline - Mid'!L10 -> 0 | AB5: ='Screening - Baseline - Mid'!F46 -> 0 | AC5: ='Screening - Baseline - Mid'!G46 -> 0 | AD5: ='Screening - Baseline - Mid'!H46 -> 0 | AE5: ='Screening - Baseline - Mid'!I46 -> 0 | AF5: ='Screening - Baseline - Mid'!J46 -> 0 | AG5: ='Screening - Baseline - Mid'!K46 -> 0 | AH5: ='Screening - Baseline - Mid'!L46 -> 0 | AI5: =Middle!E13 -> 0 | AJ5: =Middle!F13 -> 0 years / 0 | AK5: =Middle!G13 -> 0 | AL5: =Middle!H13 -> #VALUE! | AM5: =Middle!J13 -> 0 | AN5: =Middle!K13 -> 0 | AO5: =Middle!F47 -> 0 | AP5: =Middle!G47 -> 0 | AQ5: =Middle!H47 -> 0 | AR5: =Middle!I47 -> 0 | AS5: =Middle!J47 -> 0 | AT5: =Middle!K47 -> 0 | AU5: =Middle!L47 -> 0 | AV5: ='Screening - Mid - End '!G10 -> 0 | AW5: ='Screening - Mid - End '!H10 -> 0 | AX5: ='Screening - Mid - End '!I10 -> 0 | AY5: ='Screening - Mid - End '!J10 -> 0 | AZ5: ='Screening - Mid - End '!K10 -> 0 | BA5: ='Screening - Mid - End '!L10 -> 0 | BB5: ='Screening - Mid - End '!M10 -> 0 | BC5: ='Screening - Mid - End '!G45 -> 0 | BD5: ='Screening - Mid - End '!H45 -> 0 | BE5: ='Screening - Mid - End '!I45 -> 0 | BF5: ='Screening - Mid - End '!J45 -> 0 | BG5: ='Screening - Mid - End '!K45 -> 0 | BH5: ='Screening - Mid - End '!L45 -> 0 | BI5: ='Screening - Mid - End '!M45 -> 0 | BJ5: =End!E11 -> 0 | BK5: =End!F11 -> 0 years / 0 | BL5: =End!G11 -> 0 | BM5: =End!H11 -> #VALUE! | BN5: =End!J11 -> 0 | BO5: =End!K11 -> 0 | BP5: =End!F45 -> 0 | BQ5: =End!G45 -> 0 | BR5: =End!H45 -> 0 | BS5: =End!I45 -> 0 | BT5: =End!J45 -> 0 | BU5: =End!K45 -> 0 | BV5: =End!L45 -> 0
C6: 4 | D6: =Register!D9 -> 0 | E6: =Register!G9 -> 0 | F6: =Register!H9 -> 0 | G6: =Register!I9 -> 0 | H6: =Register!J9 -> 0 | I6: =Baseline!I11 -> 0 | J6: =Baseline!J11 -> 0 years / 0 | K6: =Baseline!K11 -> 0 | L6: =Baseline!L11 -> #VALUE! | M6: =Register!K9 -> 0 | N6: =Baseline!G45 -> 0 | O6: =Baseline!H45 -> 0 | P6: =Baseline!I45 -> 0 | Q6: =Baseline!J45 -> 0 | R6: =Baseline!K45 -> 0 | S6: =Baseline!L45 -> 0 | T6: =Baseline!M45 -> 0 | U6: ='Screening - Baseline - Mid'!F11 -> 0 | V6: ='Screening - Baseline - Mid'!G11 -> 0 | W6: ='Screening - Baseline - Mid'!H11 -> 0 | X6: ='Screening - Baseline - Mid'!I11 -> 0 | Y6: ='Screening - Baseline - Mid'!J11 -> 0 | Z6: ='Screening - Baseline - Mid'!K11 -> 0 | AA6: ='Screening - Baseline - Mid'!L11 -> 0 | AB6: ='Screening - Baseline - Mid'!F47 -> 0 | AC6: ='Screening - Baseline - Mid'!G47 -> 0 | AD6: ='Screening - Baseline - Mid'!H47 -> 0 | AE6: ='Screening - Baseline - Mid'!I47 -> 0 | AF6: ='Screening - Baseline - Mid'!J47 -> 0 | AG6: ='Screening - Baseline - Mid'!K47 -> 0 | AH6: ='Screening - Baseline - Mid'!L47 -> 0 | AI6: =Middle!E14 -> 0 | AJ6: =Middle!F14 -> 0 years / 0 | AK6: =Middle!G14 -> 0 | AL6: =Middle!H14 -> #VALUE! | AM6: =Middle!J14 -> 0 | AN6: =Middle!K14 -> 0 | AO6: =Middle!F48 -> 0 | AP6: =Middle!G48 -> 0 | AQ6: =Middle!H48 -> 0 | AR6: =Middle!I48 -> 0 | AS6: =Middle!J48 -> 0 | AT6: =Middle!K48 -> 0 | AU6: =Middle!L48 -> 0 | AV6: ='Screening - Mid - End '!G11 -> 0 | AW6: ='Screening - Mid - End '!H11 -> 0 | AX6: ='Screening - Mid - End '!I11 -> 0 | AY6: ='Screening - Mid - End '!J11 -> 0 | AZ6: ='Screening - Mid - End '!K11 -> 0 | BA6: ='Screening - Mid - End '!L11 -> 0 | BB6: ='Screening - Mid - End '!M11 -> 0 | BC6: ='Screening - Mid - End '!G46 -> 0 | BD6: ='Screening - Mid - End '!H46 -> 0 | BE6: ='Screening - Mid - End '!I46 -> 0 | BF6: ='Screening - Mid - End '!J46 -> 0 | BG6: ='Screening - Mid - End '!K46 -> 0 | BH6: ='Screening - Mid - End '!L46 -> 0 | BI6: ='Screening - Mid - End '!M46 -> 0 | BJ6: =End!E12 -> 0 | BK6: =End!F12 -> 0 years / 0 | BL6: =End!G12 -> 0 | BM6: =End!H12 -> #VALUE! | BN6: =End!J12 -> 0 | BO6: =End!K12 -> 0 | BP6: =End!F46 -> 0 | BQ6: =End!G46 -> 0 | BR6: =End!H46 -> 0 | BS6: =End!I46 -> 0 | BT6: =End!J46 -> 0 | BU6: =End!K46 -> 0 | BV6: =End!L46 -> 0
C7: 5 | D7: =Register!D10 -> 0 | E7: =Register!G10 -> 0 | F7: =Register!H10 -> 0 | G7: =Register!I10 -> 0 | H7: =Register!J10 -> 0 | I7: =Baseline!I12 -> 0 | J7: =Baseline!J12 -> 0 years / 0 | K7: =Baseline!K12 -> 0 | L7: =Baseline!L12 -> #VALUE! | M7: =Register!K10 -> 0 | N7: =Baseline!G46 -> 0 | O7: =Baseline!H46 -> 0 | P7: =Baseline!I46 -> 0 | Q7: =Baseline!J46 -> 0 | R7: =Baseline!K46 -> 0 | S7: =Baseline!L46 -> 0 | T7: =Baseline!M46 -> 0 | U7: ='Screening - Baseline - Mid'!F12 -> 0 | V7: ='Screening - Baseline - Mid'!G12 -> 0 | W7: ='Screening - Baseline - Mid'!H12 -> 0 | X7: ='Screening - Baseline - Mid'!I12 -> 0 | Y7: ='Screening - Baseline - Mid'!J12 -> 0 | Z7: ='Screening - Baseline - Mid'!K12 -> 0 | AA7: ='Screening - Baseline - Mid'!L12 -> 0 | AB7: ='Screening - Baseline - Mid'!F48 -> 0 | AC7: ='Screening - Baseline - Mid'!G48 -> 0 | AD7: ='Screening - Baseline - Mid'!H48 -> 0 | AE7: ='Screening - Baseline - Mid'!I48 -> 0 | AF7: ='Screening - Baseline - Mid'!J48 -> 0 | AG7: ='Screening - Baseline - Mid'!K48 -> 0 | AH7: ='Screening - Baseline - Mid'!L48 -> 0 | AI7: =Middle!E15 -> 0 | AJ7: =Middle!F15 -> 0 years / 0 | AK7: =Middle!G15 -> 0 | AL7: =Middle!H15 -> #VALUE! | AM7: =Middle!J15 -> 0 | AN7: =Middle!K15 -> 0 | AO7: =Middle!F49 -> 0 | AP7: =Middle!G49 -> 0 | AQ7: =Middle!H49 -> 0 | AR7: =Middle!I49 -> 0 | AS7: =Middle!J49 -> 0 | AT7: =Middle!K49 -> 0 | AU7: =Middle!L49 -> 0 | AV7: ='Screening - Mid - End '!G12 -> 0 | AW7: ='Screening - Mid - End '!H12 -> 0 | AX7: ='Screening - Mid - End '!I12 -> 0 | AY7: ='Screening - Mid - End '!J12 -> 0 | AZ7: ='Screening - Mid - End '!K12 -> 0 | BA7: ='Screening - Mid - End '!L12 -> 0 | BB7: ='Screening - Mid - End '!M12 -> 0 | BC7: ='Screening - Mid - End '!G47 -> 0 | BD7: ='Screening - Mid - End '!H47 -> 0 | BE7: ='Screening - Mid - End '!I47 -> 0 | BF7: ='Screening - Mid - End '!J47 -> 0 | BG7: ='Screening - Mid - End '!K47 -> 0 | BH7: ='Screening - Mid - End '!L47 -> 0 | BI7: ='Screening - Mid - End '!M47 -> 0 | BJ7: =End!E13 -> 0 | BK7: =End!F13 -> 0 years / 0 | BL7: =End!G13 -> 0 | BM7: =End!H13 -> #VALUE! | BN7: =End!J13 -> 0 | BO7: =End!K13 -> 0 | BP7: =End!F47 -> 0 | BQ7: =End!G47 -> 0 | BR7: =End!H47 -> 0 | BS7: =End!I47 -> 0 | BT7: =End!J47 -> 0 | BU7: =End!K47 -> 0 | BV7: =End!L47 -> 0
C8: 6 | D8: =Register!D11 -> 0 | E8: =Register!G11 -> 0 | F8: =Register!H11 -> 0 | G8: =Register!I11 -> 0 | H8: =Register!J11 -> 0 | I8: =Baseline!I13 -> 0 | J8: =Baseline!J13 -> 0 years / 0 | K8: =Baseline!K13 -> 0 | L8: =Baseline!L13 -> #VALUE! | M8: =Register!K11 -> 0 | N8: =Baseline!G47 -> 0 | O8: =Baseline!H47 -> 0 | P8: =Baseline!I47 -> 0 | Q8: =Baseline!J47 -> 0 | R8: =Baseline!K47 -> 0 | S8: =Baseline!L47 -> 0 | T8: =Baseline!M47 -> 0 | U8: ='Screening - Baseline - Mid'!F13 -> 0 | V8: ='Screening - Baseline - Mid'!G13 -> 0 | W8: ='Screening - Baseline - Mid'!H13 -> 0 | X8: ='Screening - Baseline - Mid'!I13 -> 0 | Y8: ='Screening - Baseline - Mid'!J13 -> 0 | Z8: ='Screening - Baseline - Mid'!K13 -> 0 | AA8: ='Screening - Baseline - Mid'!L13 -> 0 | AB8: ='Screening - Baseline - Mid'!F49 -> 0 | AC8: ='Screening - Baseline - Mid'!G49 -> 0 | AD8: ='Screening - Baseline - Mid'!H49 -> 0 | AE8: ='Screening - Baseline - Mid'!I49 -> 0 | AF8: ='Screening - Baseline - Mid'!J49 -> 0 | AG8: ='Screening - Baseline - Mid'!K49 -> 0 | AH8: ='Screening - Baseline - Mid'!L49 -> 0 | AI8: =Middle!E16 -> 0 | AJ8: =Middle!F16 -> 0 years / 0 | AK8: =Middle!G16 -> 0 | AL8: =Middle!H16 -> #VALUE! | AM8: =Middle!J16 -> 0 | AN8: =Middle!K16 -> 0 | AO8: =Middle!F50 -> 0 | AP8: =Middle!G50 -> 0 | AQ8: =Middle!H50 -> 0 | AR8: =Middle!I50 -> 0 | AS8: =Middle!J50 -> 0 | AT8: =Middle!K50 -> 0 | AU8: =Middle!L50 -> 0 | AV8: ='Screening - Mid - End '!G13 -> 0 | AW8: ='Screening - Mid - End '!H13 -> 0 | AX8: ='Screening - Mid - End '!I13 -> 0 | AY8: ='Screening - Mid - End '!J13 -> 0 | AZ8: ='Screening - Mid - End '!K13 -> 0 | BA8: ='Screening - Mid - End '!L13 -> 0 | BB8: ='Screening - Mid - End '!M13 -> 0 | BC8: ='Screening - Mid - End '!G48 -> 0 | BD8: ='Screening - Mid - End '!H48 -> 0 | BE8: ='Screening - Mid - End '!I48 -> 0 | BF8: ='Screening - Mid - End '!J48 -> 0 | BG8: ='Screening - Mid - End '!K48 -> 0 | BH8: ='Screening - Mid - End '!L48 -> 0 | BI8: ='Screening - Mid - End '!M48 -> 0 | BJ8: =End!E14 -> 0 | BK8: =End!F14 -> 0 years / 0 | BL8: =End!G14 -> 0 | BM8: =End!H14 -> #VALUE! | BN8: =End!J14 -> 0 | BO8: =End!K14 -> 0 | BP8: =End!F48 -> 0 | BQ8: =End!G48 -> 0 | BR8: =End!H48 -> 0 | BS8: =End!I48 -> 0 | BT8: =End!J48 -> 0 | BU8: =End!K48 -> 0 | BV8: =End!L48 -> 0
